BEGIN:VCALENDAR
VERSION:2.0
PRODID:-//Animal Welfare Society - ECPv6.15.20//NONSGML v1.0//EN
CALSCALE:GREGORIAN
METHOD:PUBLISH
X-ORIGINAL-URL:https://animalwelfaresociety.org
X-WR-CALDESC:Events for Animal Welfare Society
REFRESH-INTERVAL;VALUE=DURATION:PT1H
X-Robots-Tag:noindex
X-PUBLISHED-TTL:PT1H
BEGIN:VTIMEZONE
TZID:America/New_York
BEGIN:DAYLIGHT
TZOFFSETFROM:-0500
TZOFFSETTO:-0400
TZNAME:EDT
DTSTART:20220313T070000
END:DAYLIGHT
BEGIN:STANDARD
TZOFFSETFROM:-0400
TZOFFSETTO:-0500
TZNAME:EST
DTSTART:20221106T060000
END:STANDARD
BEGIN:DAYLIGHT
TZOFFSETFROM:-0500
TZOFFSETTO:-0400
TZNAME:EDT
DTSTART:20230312T070000
END:DAYLIGHT
BEGIN:STANDARD
TZOFFSETFROM:-0400
TZOFFSETTO:-0500
TZNAME:EST
DTSTART:20231105T060000
END:STANDARD
BEGIN:DAYLIGHT
TZOFFSETFROM:-0500
TZOFFSETTO:-0400
TZNAME:EDT
DTSTART:20240310T070000
END:DAYLIGHT
BEGIN:STANDARD
TZOFFSETFROM:-0400
TZOFFSETTO:-0500
TZNAME:EST
DTSTART:20241103T060000
END:STANDARD
END:VTIMEZONE
BEGIN:VEVENT
DTSTART;TZID=America/New_York:20231028T120000
DTEND;TZID=America/New_York:20231028T140000
DTSTAMP:20260423T091743
CREATED:20230814T201332Z
LAST-MODIFIED:20231110T191204Z
UID:10000002-1698494400-1698501600@animalwelfaresociety.org
SUMMARY:Paloween: Trick-or-Treat at AWS!
DESCRIPTION:At this FREE\, non-spooky\, family-friendly event\, we’ll have fun crafts\, a costume parade for the kiddos (parents\, bring those cameras to get pics!)\, trick-or-treating\, and a Halloween themed scavenger hunt around the AWS’ campus. The entire event will be held on the grounds of AWS at 46 Holland Road in Kennebunk. \n\n\n\nKids\, please bring your own trick-or-treat bag or pail so you can go home with lots of candy\, treats\, and prizes! ???????????? \n\n\n\n➡️ Kindly leave family pets at home. ⬅️ \n\n\n\nNo need to RSVP\, just stop by AWS with the family to join in the fun!
URL:https://animalwelfaresociety.org/event/paloween-2023-at-aws/
LOCATION:Animal Welfare Society\, 46 Holland Road\, Kennebunk\, ME\, 04043\, United States
ATTACH;FMTTYPE=image/jpeg:https://animalwelfaresociety.org/wp-content/uploads/2023/09/0r9AlsnY.jpg
END:VEVENT
BEGIN:VEVENT
DTSTART;TZID=America/New_York:20231103T113000
DTEND;TZID=America/New_York:20231103T121500
DTSTAMP:20260423T091743
CREATED:20231026T164607Z
LAST-MODIFIED:20231110T191335Z
UID:10000013-1699011000-1699013700@animalwelfaresociety.org
SUMMARY:Furry Tales Story Time
DESCRIPTION:FREE.
URL:https://animalwelfaresociety.org/event/furry-tales-with-aws-kennebunk-free-library/
LOCATION:Kennebunk Free Library\, 112 Main Street\, Kennebunk\, ME\, 04043\, United States
CATEGORIES:Literacy and Story Time,Furry Tales
ORGANIZER;CN="Animal Welfare Society":MAILTO:info@animalwelfaresociety.org
END:VEVENT
BEGIN:VEVENT
DTSTART;TZID=America/New_York:20231108T140000
DTEND;TZID=America/New_York:20231108T143000
DTSTAMP:20260423T091743
CREATED:20231101T164257Z
LAST-MODIFIED:20231120T183238Z
UID:10000043-1699452000-1699453800@animalwelfaresociety.org
SUMMARY:Rescue Readers
DESCRIPTION:  \n\n\n\n\n\n\n\n\n\n\n\n 
URL:https://animalwelfaresociety.org/event/rescue-readers-12/
LOCATION:Animal Welfare Society\, 46 Holland Road\, Kennebunk\, ME\, 04043\, United States
CATEGORIES:Literacy and Story Time,Rescue Readers
ATTACH;FMTTYPE=image/jpeg:https://animalwelfaresociety.org/wp-content/uploads/2023/10/awsmaine_vB2cS2LEYP2023-scaled-e1696956725244.jpg
ORGANIZER;CN="AWS Youth Programs":MAILTO:youthprograms@animalwelfaresociety.org
END:VEVENT
BEGIN:VEVENT
DTSTART;TZID=America/New_York:20231108T143000
DTEND;TZID=America/New_York:20231108T150000
DTSTAMP:20260423T091743
CREATED:20231101T164153Z
LAST-MODIFIED:20231120T183242Z
UID:10000042-1699453800-1699455600@animalwelfaresociety.org
SUMMARY:Rescue Readers
DESCRIPTION:  \n\n\n\n\n\n\n\n\n\n\n\n 
URL:https://animalwelfaresociety.org/event/rescue-readers-4/
LOCATION:Animal Welfare Society\, 46 Holland Road\, Kennebunk\, ME\, 04043\, United States
CATEGORIES:Literacy and Story Time,Rescue Readers
ATTACH;FMTTYPE=image/jpeg:https://animalwelfaresociety.org/wp-content/uploads/2023/10/awsmaine_WWyCP-hsYP2023.jpg
ORGANIZER;CN="AWS Youth Programs":MAILTO:youthprograms@animalwelfaresociety.org
END:VEVENT
BEGIN:VEVENT
DTSTART;TZID=America/New_York:20231110T103000
DTEND;TZID=America/New_York:20231110T111500
DTSTAMP:20260423T091743
CREATED:20231101T193714Z
LAST-MODIFIED:20231120T183249Z
UID:10000016-1699612200-1699614900@animalwelfaresociety.org
SUMMARY:Furry Tales Story Time
DESCRIPTION: 
URL:https://animalwelfaresociety.org/event/furry-tales-with-aws-goodall-memorial-library/
LOCATION:Goodall Memorial Library\, 952 Main Street\, Sanford\, ME\, 04073\, United States
CATEGORIES:Literacy and Story Time,Furry Tales
ATTACH;FMTTYPE=image/jpeg:https://animalwelfaresociety.org/wp-content/uploads/2023/10/392872493_691805079663337_4706371546284937005_n.jpg
ORGANIZER;CN="Animal Welfare Society":MAILTO:info@animalwelfaresociety.org
END:VEVENT
BEGIN:VEVENT
DTSTART;TZID=America/New_York:20231115T140000
DTEND;TZID=America/New_York:20231115T143000
DTSTAMP:20260423T091743
CREATED:20231101T180541Z
LAST-MODIFIED:20231120T183257Z
UID:10000020-1700056800-1700058600@animalwelfaresociety.org
SUMMARY:Rescue Readers
DESCRIPTION: 
URL:https://animalwelfaresociety.org/event/rescue-readers/
LOCATION:Animal Welfare Society\, 46 Holland Road\, Kennebunk\, ME\, 04043\, United States
CATEGORIES:Literacy and Story Time,Rescue Readers
ATTACH;FMTTYPE=image/jpeg:https://animalwelfaresociety.org/wp-content/uploads/2023/10/awsmaine_vB2cS2LEYP2023-scaled-e1696956725244.jpg
ORGANIZER;CN="AWS Youth Programs":MAILTO:youthprograms@animalwelfaresociety.org
END:VEVENT
BEGIN:VEVENT
DTSTART;TZID=America/New_York:20231115T143000
DTEND;TZID=America/New_York:20231115T150000
DTSTAMP:20260423T091743
CREATED:20231101T195709Z
LAST-MODIFIED:20231120T183303Z
UID:10000014-1700058600-1700060400@animalwelfaresociety.org
SUMMARY:Rescue Readers
DESCRIPTION: 
URL:https://animalwelfaresociety.org/event/rescue-readers-5/
LOCATION:Animal Welfare Society\, 46 Holland Road\, Kennebunk\, ME\, 04043\, United States
CATEGORIES:Literacy and Story Time,Rescue Readers
ATTACH;FMTTYPE=image/jpeg:https://animalwelfaresociety.org/wp-content/uploads/2023/10/awsmaine_WWyCP-hsYP2023.jpg
ORGANIZER;CN="AWS Youth Programs":MAILTO:youthprograms@animalwelfaresociety.org
END:VEVENT
BEGIN:VEVENT
DTSTART;TZID=America/New_York:20231116T163000
DTEND;TZID=America/New_York:20231116T164500
DTSTAMP:20260423T091743
CREATED:20231101T185851Z
LAST-MODIFIED:20231120T183308Z
UID:10000110-1700152200-1700153100@animalwelfaresociety.org
SUMMARY:Small Breed Learn & Play - Scent Work
DESCRIPTION:Open to dogs 5 months and older\, under 25 lbs\, and who are either graduates of AWS Basic Training\, an equivalent obedience/manners group class\, or has permission from the instructor.  \n\n\n\nSmall Breed Learn & Play is a series of one-time sessions that build upon the training and obedience skills you learned in our Basic Training class. It is a great way to reinforce good behavior\, learn new skills\, bond with your dog and have fun. \n\n\n\n\n\nPlease register online at DogBizPro \n\n\n\nRegister Online at DogBizPro
URL:https://animalwelfaresociety.org/event/small-breed-learn-play-scent-work/
LOCATION:Animal Welfare Society\, 46 Holland Road\, Kennebunk\, ME\, 04043\, United States
CATEGORIES:Canine Training
ATTACH;FMTTYPE=image/jpeg:https://animalwelfaresociety.org/wp-content/uploads/2023/11/TPAsBAEQ.jpg
ORGANIZER;CN="AWS Canine Training Team":MAILTO:training@animalwelfaresociety.org
END:VEVENT
BEGIN:VEVENT
DTSTART;TZID=America/New_York:20231117T103000
DTEND;TZID=America/New_York:20231117T111500
DTSTAMP:20260423T091743
CREATED:20231101T175310Z
LAST-MODIFIED:20231120T183314Z
UID:10000018-1700217000-1700219700@animalwelfaresociety.org
SUMMARY:Furry Tales Story Time
DESCRIPTION:
URL:https://animalwelfaresociety.org/event/furry-tales-story-time-6/
LOCATION:Graves Memorial Library\, 18 Maine Street\, Kennebunkport\, ME\, 04046\, United States
CATEGORIES:Literacy and Story Time,Furry Tales
ORGANIZER;CN="AWS Youth Programs":MAILTO:youthprograms@animalwelfaresociety.org
END:VEVENT
BEGIN:VEVENT
DTSTART;TZID=America/New_York:20231119T140000
DTEND;TZID=America/New_York:20231119T150000
DTSTAMP:20260423T091743
CREATED:20231101T143423Z
LAST-MODIFIED:20231120T183336Z
UID:10000107-1700402400-1700406000@animalwelfaresociety.org
SUMMARY:Puppy Learn & Play - Wheels & Sounds
DESCRIPTION:Register Online at DogBizPro
URL:https://animalwelfaresociety.org/event/puppy-learn-play-wheels-sounds/
LOCATION:AWS Training Classroom\, 46 Holland Road\, Kennebunk\, ME\, 04043\, United States
CATEGORIES:Canine Training
ATTACH;FMTTYPE=image/jpeg:https://animalwelfaresociety.org/wp-content/uploads/2023/10/awsmaine_11807234_1138482249500658_7751568007141329484_oclassBT2023.jpg
ORGANIZER;CN="AWS Canine Training Team":MAILTO:training@animalwelfaresociety.org
END:VEVENT
BEGIN:VEVENT
DTSTART;TZID=America/New_York:20231126T140000
DTEND;TZID=America/New_York:20231126T150000
DTSTAMP:20260423T091743
CREATED:20231101T184145Z
LAST-MODIFIED:20231120T183756Z
UID:10000109-1701007200-1701010800@animalwelfaresociety.org
SUMMARY:Puppy Learn & Play - Leash walking
DESCRIPTION:Open to puppies under 5 months old. \n\n\n\nPuppy Learn & Play is a series of one-time sessions that tackle the basics of raising a puppy and includes a mix of socialization\, obedience training\, life skills\, play and fun! \n\n\n\nEach session will cover a unique topic that includes training skills and obstacles\, with a Q & A at the end. Sessions run in four-week increments – pick and choose the sessions you and your puppy will attend or attend them all!  \n\n\n\n\n\nPlease register online at DogBizPro \n\n\n\nRegister Online at DogBizPro
URL:https://animalwelfaresociety.org/event/puppy-learn-play-leash-walking/
LOCATION:Animal Welfare Society\, 46 Holland Road\, Kennebunk\, ME\, 04043\, United States
CATEGORIES:Canine Training
ATTACH;FMTTYPE=image/jpeg:https://animalwelfaresociety.org/wp-content/uploads/2023/11/5E6ySh7J-scaled-e1700505470877.jpg
ORGANIZER;CN="AWS Canine Training Team":MAILTO:training@animalwelfaresociety.org
END:VEVENT
BEGIN:VEVENT
DTSTART;TZID=America/New_York:20231129T140000
DTEND;TZID=America/New_York:20231129T143000
DTSTAMP:20260423T091743
CREATED:20231101T181112Z
LAST-MODIFIED:20231120T183401Z
UID:10000029-1701266400-1701268200@animalwelfaresociety.org
SUMMARY:Rescue Readers
DESCRIPTION: 
URL:https://animalwelfaresociety.org/event/rescue-readers-6/
LOCATION:Animal Welfare Society\, 46 Holland Road\, Kennebunk\, ME\, 04043\, United States
CATEGORIES:Literacy and Story Time,Rescue Readers
ATTACH;FMTTYPE=image/jpeg:https://animalwelfaresociety.org/wp-content/uploads/2023/10/awsmaine_2278-copyRescueReadersYP2023-scaled.jpg
ORGANIZER;CN="AWS Youth Programs":MAILTO:youthprograms@animalwelfaresociety.org
END:VEVENT
BEGIN:VEVENT
DTSTART;TZID=America/New_York:20231129T143000
DTEND;TZID=America/New_York:20231129T150000
DTSTAMP:20260423T091743
CREATED:20231102T181501Z
LAST-MODIFIED:20231120T183439Z
UID:10000030-1701268200-1701270000@animalwelfaresociety.org
SUMMARY:Rescue Readers
DESCRIPTION: 
URL:https://animalwelfaresociety.org/event/rescue-readers-7/
LOCATION:Animal Welfare Society\, 46 Holland Road\, Kennebunk\, ME\, 04043\, United States
CATEGORIES:Literacy and Story Time,Rescue Readers
ATTACH;FMTTYPE=image/jpeg:https://animalwelfaresociety.org/wp-content/uploads/2023/10/awsmaine_2289-copyRescueReadersYP2023-scaled.jpg
ORGANIZER;CN="AWS Youth Programs":MAILTO:youthprograms@animalwelfaresociety.org
END:VEVENT
BEGIN:VEVENT
DTSTART;TZID=America/New_York:20231130T163000
DTEND;TZID=America/New_York:20231130T164500
DTSTAMP:20260423T091743
CREATED:20231102T190122Z
LAST-MODIFIED:20231120T183443Z
UID:10000111-1701361800-1701362700@animalwelfaresociety.org
SUMMARY:Small Breed Learn & Play - Agility and Obstacles
DESCRIPTION:Open to dogs 5 months and older\, under 25 lbs\, and who are either graduates of AWS Basic Training\, an equivalent obedience/manners group class\, or has permission from the instructor.  \n\n\n\nSmall Breed Learn & Play is a series of one-time sessions that build upon the training and obedience skills you learned in our Basic Training class. It is a great way to reinforce good behavior\, learn new skills\, bond with your dog and have fun. \n\n\n\n\n\nPlease register online at DogBizPro \n\n\n\nRegister Online at DogBizPro
URL:https://animalwelfaresociety.org/event/small-breed-learn-play-agility-and-obstacles/
LOCATION:Animal Welfare Society\, 46 Holland Road\, Kennebunk\, ME\, 04043\, United States
CATEGORIES:Canine Training
ATTACH;FMTTYPE=image/jpeg:https://animalwelfaresociety.org/wp-content/uploads/2023/11/TPAsBAEQ.jpg
ORGANIZER;CN="AWS Canine Training Team":MAILTO:training@animalwelfaresociety.org
END:VEVENT
BEGIN:VEVENT
DTSTART;TZID=America/New_York:20231201T113000
DTEND;TZID=America/New_York:20231201T121500
DTSTAMP:20260423T091743
CREATED:20231102T154741Z
LAST-MODIFIED:20231120T183447Z
UID:10000021-1701430200-1701432900@animalwelfaresociety.org
SUMMARY:Furry Tales Story Time
DESCRIPTION:
URL:https://animalwelfaresociety.org/event/furry-tales-story-time-2/
LOCATION:Kennebunk Free Library\, 112 Main Street\, Kennebunk\, ME\, 04043\, United States
CATEGORIES:Literacy and Story Time,Furry Tales
ATTACH;FMTTYPE=image/jpeg:https://animalwelfaresociety.org/wp-content/uploads/2023/11/awsmaine_FurryTalesYP_1023-e1702048077437.jpg
ORGANIZER;CN="AWS Youth Programs":MAILTO:youthprograms@animalwelfaresociety.org
END:VEVENT
BEGIN:VEVENT
DTSTART;TZID=America/New_York:20231202T090000
DTEND;TZID=America/New_York:20231202T120000
DTSTAMP:20260423T091743
CREATED:20231102T171222Z
LAST-MODIFIED:20231120T183454Z
UID:10000104-1701507600-1701518400@animalwelfaresociety.org
SUMMARY:Microchip + Rabies Vaccine Clinic
DESCRIPTION:For dogs and cats over 12 weeks of age \n\n\n\nFREE \n\n\n\nTo receive a 3-year vaccine\, you must bring your pet’s previous rabies certificate or Record from a vet. Otherwise\, your pet will receive a 1-year vaccine
URL:https://animalwelfaresociety.org/event/microchip-rabies-vaccine-clinic-dec-2023/
LOCATION:AWS Community Veterinary Clinic\, 46 Holland Road\, Kennebunk\, 04043\, United States
CATEGORIES:Veterinary Clinics
ATTACH;FMTTYPE=image/png:https://animalwelfaresociety.org/wp-content/uploads/2023/11/awsmaine_RabiesClinicEVENT_1123.png
ORGANIZER;CN="AWS Community Veterinary Clinic":MAILTO:clinic@animalwelfaresociety.org
END:VEVENT
BEGIN:VEVENT
DTSTART;TZID=America/New_York:20231203T140000
DTEND;TZID=America/New_York:20231203T150000
DTSTAMP:20260423T091743
CREATED:20231102T182515Z
LAST-MODIFIED:20231120T183459Z
UID:10000108-1701612000-1701615600@animalwelfaresociety.org
SUMMARY:Puppy Learn & Play- Yuletide Youngsters
DESCRIPTION:Open to puppies under 5 months old. \n\n\n\nFestive Foundations for your Puppy’s First Howl-idays!\n\n\n\nStep into the festive charm of our holiday-themed puppy class\, blending seasonal joy with essential socialization and playful games.  \n\n\n\n\n\nPlease register online at DogBizPro \n\n\n\nRegister Online at DogBizPro
URL:https://animalwelfaresociety.org/event/puppy-learn-play-2/
LOCATION:Animal Welfare Society\, 46 Holland Road\, Kennebunk\, ME\, 04043\, United States
CATEGORIES:Canine Training
ORGANIZER;CN="AWS Canine Training Team":MAILTO:training@animalwelfaresociety.org
END:VEVENT
BEGIN:VEVENT
DTSTART;TZID=America/New_York:20231206T140000
DTEND;TZID=America/New_York:20231206T143000
DTSTAMP:20260423T091743
CREATED:20231102T182441Z
LAST-MODIFIED:20231120T183507Z
UID:10000031-1701871200-1701873000@animalwelfaresociety.org
SUMMARY:Rescue Readers
DESCRIPTION: 
URL:https://animalwelfaresociety.org/event/rescue-readers-2/
LOCATION:Animal Welfare Society\, 46 Holland Road\, Kennebunk\, ME\, 04043\, United States
CATEGORIES:Literacy and Story Time,Rescue Readers
ATTACH;FMTTYPE=image/jpeg:https://animalwelfaresociety.org/wp-content/uploads/2023/10/awsmaine_rescuereadersYP2023-e1701879300924.jpeg
ORGANIZER;CN="AWS Youth Programs":MAILTO:youthprograms@animalwelfaresociety.org
END:VEVENT
BEGIN:VEVENT
DTSTART;TZID=America/New_York:20231206T143000
DTEND;TZID=America/New_York:20231206T150000
DTSTAMP:20260423T091743
CREATED:20231102T182640Z
LAST-MODIFIED:20231113T194216Z
UID:10000032-1701873000-1701874800@animalwelfaresociety.org
SUMMARY:Rescue Readers
DESCRIPTION: 
URL:https://animalwelfaresociety.org/event/rescue-readers-3/
LOCATION:Animal Welfare Society\, 46 Holland Road\, Kennebunk\, ME\, 04043\, United States
CATEGORIES:Literacy and Story Time,Rescue Readers
ATTACH;FMTTYPE=image/jpeg:https://animalwelfaresociety.org/wp-content/uploads/2023/11/awsmaine_RescueReadersYP_1123.jpg
ORGANIZER;CN="AWS Youth Programs":MAILTO:youthprograms@animalwelfaresociety.org
END:VEVENT
BEGIN:VEVENT
DTSTART;TZID=America/New_York:20231207T151500
DTEND;TZID=America/New_York:20231207T164500
DTSTAMP:20260423T091743
CREATED:20231103T193047Z
LAST-MODIFIED:20231127T165614Z
UID:10000114-1701962100-1701967500@animalwelfaresociety.org
SUMMARY:December After School Club
DESCRIPTION:After School Club is for students in grades 2-5. Due to the holiday\, December After School Club will meet every Thursday except for Thursday\, December 28.
URL:https://animalwelfaresociety.org/event/december-after-school-club/
LOCATION:Animal Welfare Society\, 46 Holland Road\, Kennebunk\, Maine\, 04043\, United States
ATTACH;FMTTYPE=image/jpeg:https://animalwelfaresociety.org/wp-content/uploads/2023/11/awsmaine_AfterSchoolClubYP_1123.jpg
ORGANIZER;CN="AWS Youth Programs":MAILTO:youthprograms@animalwelfaresociety.org
END:VEVENT
BEGIN:VEVENT
DTSTART;TZID=America/New_York:20231207T163000
DTEND;TZID=America/New_York:20231207T164500
DTSTAMP:20260423T091743
CREATED:20231103T190530Z
LAST-MODIFIED:20231120T202808Z
UID:10000112-1701966600-1701967500@animalwelfaresociety.org
SUMMARY:Small Breed Learn & Play - Prancer's Petite Pooches
DESCRIPTION:Open to dogs 5 months and older\, under 25 lbs\, and who are either graduates of AWS Basic Training\, an equivalent obedience/manners group class\, or has permission from the instructor.  \n\n\n\nHoliday Edition!\n\n\n\nYou and your petite companion will embark on a merry adventure\, mastering polite behavior amid holiday cheer. You dog will sparkle with good manners and revel in the joy of festive games and agility fun. \n\n\n\n\n\nPlease register online at DogBizPro \n\n\n\nRegister Online at DogBizPro
URL:https://animalwelfaresociety.org/event/small-breed-learn-play-prancers-petite-pooches/
LOCATION:Animal Welfare Society\, 46 Holland Road\, Kennebunk\, ME\, 04043\, United States
CATEGORIES:Canine Training
ATTACH;FMTTYPE=image/jpeg:https://animalwelfaresociety.org/wp-content/uploads/2023/11/awsmaine_325129688_695257988917989_254257954920915883_nReindeerGamesBT2023-e1701879031936.jpeg
ORGANIZER;CN="AWS Canine Training Team":MAILTO:training@animalwelfaresociety.org
END:VEVENT
BEGIN:VEVENT
DTSTART;TZID=America/New_York:20231208T103000
DTEND;TZID=America/New_York:20231208T111500
DTSTAMP:20260423T091743
CREATED:20231103T172741Z
LAST-MODIFIED:20231207T182846Z
UID:10000023-1702031400-1702034100@animalwelfaresociety.org
SUMMARY:Furry Tales Story Time
DESCRIPTION:
URL:https://animalwelfaresociety.org/event/furry-tales-story-time-3/
LOCATION:Goodall Memorial Library\, 952 Main Street\, Sanford\, ME\, 04073\, United States
CATEGORIES:Literacy and Story Time,Furry Tales
ORGANIZER;CN="AWS Youth Programs":MAILTO:youthprograms@animalwelfaresociety.org
END:VEVENT
BEGIN:VEVENT
DTSTART;TZID=America/New_York:20231213T140000
DTEND;TZID=America/New_York:20231213T143000
DTSTAMP:20260423T091743
CREATED:20231103T183347Z
LAST-MODIFIED:20231213T190105Z
UID:10000033-1702476000-1702477800@animalwelfaresociety.org
SUMMARY:Rescue Readers - Dec 13 @2pm
DESCRIPTION: 
URL:https://animalwelfaresociety.org/event/rescue-readers-8/
LOCATION:Animal Welfare Society\, 46 Holland Road\, Kennebunk\, ME\, 04043\, United States
CATEGORIES:Literacy and Story Time,Rescue Readers
ATTACH;FMTTYPE=image/jpeg:https://animalwelfaresociety.org/wp-content/uploads/2023/09/aws-rescuereaders-2.jpeg
ORGANIZER;CN="AWS Youth Programs":MAILTO:youthprograms@animalwelfaresociety.org
END:VEVENT
BEGIN:VEVENT
DTSTART;TZID=America/New_York:20231213T143000
DTEND;TZID=America/New_York:20231213T150000
DTSTAMP:20260423T091743
CREATED:20231103T183710Z
LAST-MODIFIED:20231213T190041Z
UID:10000034-1702477800-1702479600@animalwelfaresociety.org
SUMMARY:Rescue Readers - Dec 13 @2:30pm
DESCRIPTION: 
URL:https://animalwelfaresociety.org/event/rescue-readers-9/
LOCATION:Animal Welfare Society\, 46 Holland Road\, Kennebunk\, ME\, 04043\, United States
CATEGORIES:Literacy and Story Time,Rescue Readers
ATTACH;FMTTYPE=image/jpeg:https://animalwelfaresociety.org/wp-content/uploads/2023/10/awsmaine-rescuereadersYP2023-scaled-e1702048038399.jpg
ORGANIZER;CN="AWS Youth Programs":MAILTO:youthprograms@animalwelfaresociety.org
END:VEVENT
BEGIN:VEVENT
DTSTART;TZID=America/New_York:20231215T100000
DTEND;TZID=America/New_York:20231215T104500
DTSTAMP:20260423T091743
CREATED:20231103T173210Z
LAST-MODIFIED:20231212T195157Z
UID:10000024-1702634400-1702637100@animalwelfaresociety.org
SUMMARY:Furry Tales Story Time
DESCRIPTION:
URL:https://animalwelfaresociety.org/event/furry-tales-story-time-4/
LOCATION:Graves Memorial Library\, 18 Maine Street\, Kennebunkport\, ME\, 04046\, United States
CATEGORIES:Literacy and Story Time,Furry Tales
ATTACH;FMTTYPE=image/jpeg:https://animalwelfaresociety.org/wp-content/uploads/2023/11/awsmaine-furrytaleshoildayYP1223-e1702410626569.jpg
ORGANIZER;CN="AWS Youth Programs":MAILTO:youthprograms@animalwelfaresociety.org
END:VEVENT
BEGIN:VEVENT
DTSTART;TZID=America/New_York:20231220T140000
DTEND;TZID=America/New_York:20231220T143000
DTSTAMP:20260423T091743
CREATED:20231103T141828Z
LAST-MODIFIED:20231213T190006Z
UID:10000039-1703080800-1703082600@animalwelfaresociety.org
SUMMARY:Rescue Readers - Dec 20 @ 2 pm
DESCRIPTION: 
URL:https://animalwelfaresociety.org/event/rescue-readers-10/
LOCATION:Animal Welfare Society\, 46 Holland Road\, Kennebunk\, ME\, 04043\, United States
CATEGORIES:Literacy and Story Time,Rescue Readers
ATTACH;FMTTYPE=image/jpeg:https://animalwelfaresociety.org/wp-content/uploads/2023/10/awsmaine_rescuereadersYP2023-e1701879300924.jpeg
ORGANIZER;CN="AWS Youth Programs":MAILTO:youthprograms@animalwelfaresociety.org
END:VEVENT
BEGIN:VEVENT
DTSTART;TZID=America/New_York:20231220T143000
DTEND;TZID=America/New_York:20231220T150000
DTSTAMP:20260423T091743
CREATED:20231103T142017Z
LAST-MODIFIED:20231213T190141Z
UID:10000040-1703082600-1703084400@animalwelfaresociety.org
SUMMARY:Rescue Readers - Dec 20 @2:30 pm
DESCRIPTION: 
URL:https://animalwelfaresociety.org/event/rescue-readers-11/
LOCATION:Animal Welfare Society\, 46 Holland Road\, Kennebunk\, ME\, 04043\, United States
CATEGORIES:Literacy and Story Time,Rescue Readers
ATTACH;FMTTYPE=image/jpeg:https://animalwelfaresociety.org/wp-content/uploads/2023/11/awsmaine_RescueReadersYP_1123.jpg
ORGANIZER;CN="AWS Youth Programs":MAILTO:youthprograms@animalwelfaresociety.org
END:VEVENT
BEGIN:VEVENT
DTSTART;TZID=America/New_York:20231222T140000
DTEND;TZID=America/New_York:20231222T160000
DTSTAMP:20260423T091743
CREATED:20231104T150403Z
LAST-MODIFIED:20231218T192859Z
UID:10000038-1703253600-1703260800@animalwelfaresociety.org
SUMMARY:Kid's Holiday Party
DESCRIPTION:Calling all families! You’re invited to AWS’ annual Kid’s Holiday Party! \n\n\n\nGAMES • CRAFTS • CAROLS • STORIES • ANIMALS • AND MORE!\n\n\n\nBring in your Kids Challenge items\, or other gifts\, to leave under the tree for the AWS pets.  \n\n\n\n \n\n\n\nKindly leave family pets at home.
URL:https://animalwelfaresociety.org/event/kids-holiday-party/
LOCATION:Animal Welfare Society\, 46 Holland Road\, Kennebunk\, ME\, 04043\, United States
ATTACH;FMTTYPE=image/jpeg:https://animalwelfaresociety.org/wp-content/uploads/2023/11/awsmaine-kidsholidaypartyYP1223-e1701973958924.jpeg
ORGANIZER;CN="AWS Youth Programs":MAILTO:youthprograms@animalwelfaresociety.org
END:VEVENT
BEGIN:VEVENT
DTSTART;TZID=America/New_York:20231227T130000
DTEND;TZID=America/New_York:20231227T160000
DTSTAMP:20260423T091743
CREATED:20231219T195139Z
LAST-MODIFIED:20231219T195141Z
UID:10000123-1703682000-1703692800@animalwelfaresociety.org
SUMMARY:Animals in the Arts: Shapes & Forms
DESCRIPTION:This program is for students in grades 2-8. \n\n\n\nStudents will learn that to draw dogs\, cats\, and other animals\, they must first break them down into basic gestures and shapes. In looking at basic body structure and anatomy\, students will have a better understanding of what makes animal’s bodies unique\, and then be able to take that knowledge to the drawing board. In this session\, kids will: \n\n\n\n○ Learn the basic shapes and forms that make up the body of a dog or cat○ Explore the outlines\, structure\, and skeleton of the animal they’re drawing○ Sketch their animal using these basic shapes○ Paint their animal using watercolor\, focusing on the wet-on-wet technique \n\n\n\nAll supplies are provided and students will be able to take their artwork home!
URL:https://animalwelfaresociety.org/event/animals-in-the-arts-shapes-forms/
LOCATION:Animal Welfare Society\, 46 Holland Road\, Kennebunk\, Maine\, 04043\, United States
ORGANIZER;CN="AWS Youth Programs":MAILTO:youthprograms@animalwelfaresociety.org
END:VEVENT
BEGIN:VEVENT
DTSTART;TZID=America/New_York:20231228T130000
DTEND;TZID=America/New_York:20231228T160000
DTSTAMP:20260423T091743
CREATED:20231219T200903Z
LAST-MODIFIED:20231219T201024Z
UID:10000124-1703768400-1703779200@animalwelfaresociety.org
SUMMARY:Junior Animal Advocates: Dec 28 @ 1pm - 4pm
DESCRIPTION:Junior Animal Advocates is for students in grades 2-5. \n\n\n\nOriginally called Half-Day Helpers and Junior Volunteers\, our Animal Advocates spend three hours at AWS on select days off from school working with animals and seeing first-hand how they can help. Common tasks for our Advocates could include making enrichment activities for dogs\, cleaning or organizing cat toys\, or laying out clean bedding for rabbits and small animals. No matter what activities students work on\, they know they are making a difference for our pets!
URL:https://animalwelfaresociety.org/event/junior-animal-advocates-2/
LOCATION:Animal Welfare Society\, 46 Holland Road\, Kennebunk\, Maine\, 04043\, United States
ATTACH;FMTTYPE=image/jpeg:https://animalwelfaresociety.org/wp-content/uploads/2023/11/awsmaine_JRAnimalAdvocates_1123-e1701974640568.jpeg
ORGANIZER;CN="AWS Youth Programs":MAILTO:youthprograms@animalwelfaresociety.org
END:VEVENT
END:VCALENDAR